BEGIN:VCALENDAR
VERSION:2.0
PRODID:-//Eventin//Event Calendar//EN
CALSCALE:GREGORIAN
METHOD:PUBLISH
BEGIN:VEVENT
UID:d595ae7974f68f297c3ef81b2a536621@ccputumayo.org.co
SUMMARY:Diseño gráfico a tu alcance en Canva
DESCRIPTION:Experto invitado: Jacob Wiedman. Estará habilitado del 2 al 30
  de marzo del 2026. Podrás ingresar en cualquier momento\, pues el conteni
 do estará habilitado las 24 horas del día. Lugar: Campus virtual. Objetiv
 o: Aprenderás a crear diseños gráficos con apariencia profesional. Con e
 ste curso actualizado de Canva 2025\, no solo dominarás la herramienta\, t
 ambién entenderás cómo aplicar principios de marketing\, diseño gráfic
 o y escritura persuasiva ¡Capacitación gratuita\, inscríbete!
LOCATION:Online
DTSTAMP:20260420T085733Z
DTSTART:20260301T050000Z
DTEND:20260331T050000Z
END:VEVENT
END:VCALENDAR
