BEGIN:VCALENDAR
VERSION:2.0
PRODID:-//Eventin//Event Calendar//EN
CALSCALE:GREGORIAN
METHOD:PUBLISH
BEGIN:VEVENT
UID:d7fdbd9943755111368e5bb1e175b6a3@ccputumayo.org.co
SUMMARY:Plan Comercial ajustado a tu negocio
DESCRIPTION:Experto invitado: Gustavo Vargas. Este curso virtual estará ha
 bilitado del 2 al 30 de marzo del 2026. Lugar: Campus virtual. Objetivo: Cr
 ear un plan comercial ajustado a la madurez empresarial del negocio\, acort
 e a la arquitectura de la empresa\, los objetivos estratégicos\, la oferta
  de valor y la ruta de crecimiento.
LOCATION:Online
DTSTAMP:20260422T123234Z
DTSTART:20260301T050000Z
DTEND:20260331T050000Z
END:VEVENT
END:VCALENDAR
