BEGIN:VCALENDAR
VERSION:2.0
PRODID:-//Eventin//Event Calendar//EN
CALSCALE:GREGORIAN
METHOD:PUBLISH
BEGIN:VEVENT
UID:8c5d1d6e3b62c6f394c276e07d9b5765@ccputumayo.org.co
SUMMARY:Fotografía básica para empresarios y emprendedores
DESCRIPTION:Experto invitado: Armando Rojas Flórez. Este curso virtual est
 ará habilitado del 2 al 30 de marzo del 2026. Lugar: Campus virtual. Objet
 ivo: Aprende sobre mandos\, conceptos\, técnicas y trucos fotográficos co
 n tu celular para llevar tu negocio o marca personal a otro nivel\, dominan
 do la exposición\, la composición y su correcta aplicación en fotografí
 a. La capacitación es gratuita. ¡Inscríbete ahora!
LOCATION:Online
DTSTAMP:20260422T123711Z
DTSTART:20260302T050000Z
DTEND:20260331T050000Z
END:VEVENT
END:VCALENDAR
