BEGIN:VCALENDAR
VERSION:2.0
PRODID:-//Eventin//Event Calendar//EN
CALSCALE:GREGORIAN
METHOD:PUBLISH
BEGIN:VEVENT
UID:20d2db0bc4a7f20166def70d1008993d@ccputumayo.org.co
SUMMARY:Cómo utilizar ChatGPT para tu proceso de ventas
DESCRIPTION:Experto invitado: Nathalia Garcés. Este curso virtual estará 
 habilitado del 2 al 30 de marzo del 2026. Lugar: Campus virtual. Objetivo: 
 Aplicar herramientas de inteligencia artificial\, especialmente ChatGPT\, p
 ara optimizar el proceso comercial en ventas B2B y B2C\, desde la prospecci
 ón hasta el cierre. ¡Capacitación gratuita\, inscríbete!
LOCATION:Online
DTSTAMP:20260422T123937Z
DTSTART:20260302T050000Z
DTEND:20260331T050000Z
END:VEVENT
END:VCALENDAR
